BEGIN:VCALENDAR
VERSION:2.0
PRODID:-//École secondaire Paul-Hubert de rimouski - ECPv6.15.17.1//NONSGML v1.0//EN
CALSCALE:GREGORIAN
METHOD:PUBLISH
X-WR-CALNAME:École secondaire Paul-Hubert de rimouski
X-ORIGINAL-URL:https://paulhubert.cssphares.gouv.qc.ca
X-WR-CALDESC:Évènements pour École secondaire Paul-Hubert de rimouski
REFRESH-INTERVAL;VALUE=DURATION:PT1H
X-Robots-Tag:noindex
X-PUBLISHED-TTL:PT1H
BEGIN:VTIMEZONE
TZID:America/New_York
BEGIN:DAYLIGHT
TZOFFSETFROM:-0500
TZOFFSETTO:-0400
TZNAME:EDT
DTSTART:20220313T070000
END:DAYLIGHT
BEGIN:STANDARD
TZOFFSETFROM:-0400
TZOFFSETTO:-0500
TZNAME:EST
DTSTART:20221106T060000
END:STANDARD
BEGIN:DAYLIGHT
TZOFFSETFROM:-0500
TZOFFSETTO:-0400
TZNAME:EDT
DTSTART:20230312T070000
END:DAYLIGHT
BEGIN:STANDARD
TZOFFSETFROM:-0400
TZOFFSETTO:-0500
TZNAME:EST
DTSTART:20231105T060000
END:STANDARD
BEGIN:DAYLIGHT
TZOFFSETFROM:-0500
TZOFFSETTO:-0400
TZNAME:EDT
DTSTART:20240310T070000
END:DAYLIGHT
BEGIN:STANDARD
TZOFFSETFROM:-0400
TZOFFSETTO:-0500
TZNAME:EST
DTSTART:20241103T060000
END:STANDARD
BEGIN:DAYLIGHT
TZOFFSETFROM:-0500
TZOFFSETTO:-0400
TZNAME:EDT
DTSTART:20250309T070000
END:DAYLIGHT
BEGIN:STANDARD
TZOFFSETFROM:-0400
TZOFFSETTO:-0500
TZNAME:EST
DTSTART:20251102T060000
END:STANDARD
END:VTIMEZONE
BEGIN:VEVENT
DTSTART;TZID=America/New_York:20231213T180000
DTEND;TZID=America/New_York:20231213T193000
DTSTAMP:20260421T153511
CREATED:20231101T200814Z
LAST-MODIFIED:20231101T200814Z
UID:10408-1702490400-1702495800@paulhubert.cssphares.gouv.qc.ca
SUMMARY:Rencontre du conseil d'établissement
DESCRIPTION:
URL:https://paulhubert.cssphares.gouv.qc.ca/evenement/rencontre-du-conseil-detablissement-2/
END:VEVENT
BEGIN:VEVENT
DTSTART;TZID=America/New_York:20231225T080000
DTEND;TZID=America/New_York:20240105T170000
DTSTAMP:20260421T153511
CREATED:20230918T154205Z
LAST-MODIFIED:20230918T154205Z
UID:10266-1703491200-1704474000@paulhubert.cssphares.gouv.qc.ca
SUMMARY:Congé des fêtes
DESCRIPTION:
URL:https://paulhubert.cssphares.gouv.qc.ca/evenement/conge-des-fetes-2/
END:VEVENT
END:VCALENDAR