BEGIN:VCALENDAR
VERSION:2.0
PRODID:-//École secondaire Paul-Hubert de rimouski - ECPv6.15.17.1//NONSGML v1.0//EN
CALSCALE:GREGORIAN
METHOD:PUBLISH
X-WR-CALNAME:École secondaire Paul-Hubert de rimouski
X-ORIGINAL-URL:https://paulhubert.cssphares.gouv.qc.ca
X-WR-CALDESC:Évènements pour École secondaire Paul-Hubert de rimouski
REFRESH-INTERVAL;VALUE=DURATION:PT1H
X-Robots-Tag:noindex
X-PUBLISHED-TTL:PT1H
BEGIN:VTIMEZONE
TZID:America/New_York
BEGIN:DAYLIGHT
TZOFFSETFROM:-0500
TZOFFSETTO:-0400
TZNAME:EDT
DTSTART:20230312T070000
END:DAYLIGHT
BEGIN:STANDARD
TZOFFSETFROM:-0400
TZOFFSETTO:-0500
TZNAME:EST
DTSTART:20231105T060000
END:STANDARD
BEGIN:DAYLIGHT
TZOFFSETFROM:-0500
TZOFFSETTO:-0400
TZNAME:EDT
DTSTART:20240310T070000
END:DAYLIGHT
BEGIN:STANDARD
TZOFFSETFROM:-0400
TZOFFSETTO:-0500
TZNAME:EST
DTSTART:20241103T060000
END:STANDARD
BEGIN:DAYLIGHT
TZOFFSETFROM:-0500
TZOFFSETTO:-0400
TZNAME:EDT
DTSTART:20250309T070000
END:DAYLIGHT
BEGIN:STANDARD
TZOFFSETFROM:-0400
TZOFFSETTO:-0500
TZNAME:EST
DTSTART:20251102T060000
END:STANDARD
END:VTIMEZONE
BEGIN:VEVENT
DTSTART;VALUE=DATE:20240221
DTEND;VALUE=DATE:20240222
DTSTAMP:20260423T004826
CREATED:20230918T154331Z
LAST-MODIFIED:20230918T154331Z
UID:10270-1708473600-1708559999@paulhubert.cssphares.gouv.qc.ca
SUMMARY:Bulletin - deuxième étape
DESCRIPTION:
URL:https://paulhubert.cssphares.gouv.qc.ca/evenement/bulletin-deuxieme-etape/
END:VEVENT
BEGIN:VEVENT
DTSTART;TZID=America/New_York:20240221T190000
DTEND;TZID=America/New_York:20240221T203000
DTSTAMP:20260423T004826
CREATED:20231101T200859Z
LAST-MODIFIED:20231101T200859Z
UID:10412-1708542000-1708547400@paulhubert.cssphares.gouv.qc.ca
SUMMARY:Rencontre du conseil d'établissement
DESCRIPTION:
URL:https://paulhubert.cssphares.gouv.qc.ca/evenement/rencontre-du-conseil-detablissement-4/
END:VEVENT
BEGIN:VEVENT
DTSTART;TZID=America/New_York:20240222T183000
DTEND;TZID=America/New_York:20240222T210000
DTSTAMP:20260423T004826
CREATED:20230918T154405Z
LAST-MODIFIED:20230918T154405Z
UID:10272-1708626600-1708635600@paulhubert.cssphares.gouv.qc.ca
SUMMARY:Rencontre de parents
DESCRIPTION:
URL:https://paulhubert.cssphares.gouv.qc.ca/evenement/rencontre-de-parents-5/
END:VEVENT
BEGIN:VEVENT
DTSTART;TZID=America/New_York:20240222T183000
DTEND;TZID=America/New_York:20240222T210000
DTSTAMP:20260423T004826
CREATED:20240219T183748Z
LAST-MODIFIED:20240219T183957Z
UID:10545-1708626600-1708635600@paulhubert.cssphares.gouv.qc.ca
SUMMARY:Rencontres de parents
DESCRIPTION:Rencontres de parents de 18 h 30 à 21 h. Un document sera envoyé à tous les parents concernant les locaux de rencontre pour chaque enseignant.
URL:https://paulhubert.cssphares.gouv.qc.ca/evenement/rencontres-de-parents/
LOCATION:École Paul-Hubert
END:VEVENT
BEGIN:VEVENT
DTSTART;VALUE=DATE:20240223
DTEND;VALUE=DATE:20240224
DTSTAMP:20260423T004826
CREATED:20230918T154430Z
LAST-MODIFIED:20230918T154430Z
UID:10274-1708646400-1708732799@paulhubert.cssphares.gouv.qc.ca
SUMMARY:Journée pédagogique flottante
DESCRIPTION:
URL:https://paulhubert.cssphares.gouv.qc.ca/evenement/journee-pedagogique-flottante-11/
END:VEVENT
END:VCALENDAR