BEGIN:VCALENDAR
VERSION:2.0
PRODID:-//École secondaire Paul-Hubert de rimouski - ECPv6.15.17.1//NONSGML v1.0//EN
CALSCALE:GREGORIAN
METHOD:PUBLISH
X-WR-CALNAME:École secondaire Paul-Hubert de rimouski
X-ORIGINAL-URL:https://paulhubert.cssphares.gouv.qc.ca
X-WR-CALDESC:Évènements pour École secondaire Paul-Hubert de rimouski
REFRESH-INTERVAL;VALUE=DURATION:PT1H
X-Robots-Tag:noindex
X-PUBLISHED-TTL:PT1H
BEGIN:VTIMEZONE
TZID:America/New_York
BEGIN:DAYLIGHT
TZOFFSETFROM:-0500
TZOFFSETTO:-0400
TZNAME:EDT
DTSTART:20230312T070000
END:DAYLIGHT
BEGIN:STANDARD
TZOFFSETFROM:-0400
TZOFFSETTO:-0500
TZNAME:EST
DTSTART:20231105T060000
END:STANDARD
BEGIN:DAYLIGHT
TZOFFSETFROM:-0500
TZOFFSETTO:-0400
TZNAME:EDT
DTSTART:20240310T070000
END:DAYLIGHT
BEGIN:STANDARD
TZOFFSETFROM:-0400
TZOFFSETTO:-0500
TZNAME:EST
DTSTART:20241103T060000
END:STANDARD
BEGIN:DAYLIGHT
TZOFFSETFROM:-0500
TZOFFSETTO:-0400
TZNAME:EDT
DTSTART:20250309T070000
END:DAYLIGHT
BEGIN:STANDARD
TZOFFSETFROM:-0400
TZOFFSETTO:-0500
TZNAME:EST
DTSTART:20251102T060000
END:STANDARD
END:VTIMEZONE
BEGIN:VEVENT
DTSTART;VALUE=DATE:20240304
DTEND;VALUE=DATE:20240309
DTSTAMP:20260423T164919
CREATED:20230918T154507Z
LAST-MODIFIED:20230918T154507Z
UID:10276-1709510400-1709942399@paulhubert.cssphares.gouv.qc.ca
SUMMARY:Semaine de relâche
DESCRIPTION:
URL:https://paulhubert.cssphares.gouv.qc.ca/evenement/semaine-de-relache-2/
END:VEVENT
BEGIN:VEVENT
DTSTART;VALUE=DATE:20240329
DTEND;VALUE=DATE:20240402
DTSTAMP:20260423T164919
CREATED:20230918T154537Z
LAST-MODIFIED:20230918T154537Z
UID:10278-1711670400-1712015999@paulhubert.cssphares.gouv.qc.ca
SUMMARY:Congé pascal
DESCRIPTION:
URL:https://paulhubert.cssphares.gouv.qc.ca/evenement/conge-pascal/
END:VEVENT
END:VCALENDAR