BEGIN:VCALENDAR
VERSION:2.0
PRODID:-//École secondaire Paul-Hubert de rimouski - ECPv6.15.17.1//NONSGML v1.0//EN
CALSCALE:GREGORIAN
METHOD:PUBLISH
X-WR-CALNAME:École secondaire Paul-Hubert de rimouski
X-ORIGINAL-URL:https://paulhubert.cssphares.gouv.qc.ca
X-WR-CALDESC:Évènements pour École secondaire Paul-Hubert de rimouski
REFRESH-INTERVAL;VALUE=DURATION:PT1H
X-Robots-Tag:noindex
X-PUBLISHED-TTL:PT1H
BEGIN:VTIMEZONE
TZID:America/New_York
BEGIN:DAYLIGHT
TZOFFSETFROM:-0500
TZOFFSETTO:-0400
TZNAME:EDT
DTSTART:20240310T070000
END:DAYLIGHT
BEGIN:STANDARD
TZOFFSETFROM:-0400
TZOFFSETTO:-0500
TZNAME:EST
DTSTART:20241103T060000
END:STANDARD
BEGIN:DAYLIGHT
TZOFFSETFROM:-0500
TZOFFSETTO:-0400
TZNAME:EDT
DTSTART:20250309T070000
END:DAYLIGHT
BEGIN:STANDARD
TZOFFSETFROM:-0400
TZOFFSETTO:-0500
TZNAME:EST
DTSTART:20251102T060000
END:STANDARD
BEGIN:DAYLIGHT
TZOFFSETFROM:-0500
TZOFFSETTO:-0400
TZNAME:EDT
DTSTART:20260308T070000
END:DAYLIGHT
BEGIN:STANDARD
TZOFFSETFROM:-0400
TZOFFSETTO:-0500
TZNAME:EST
DTSTART:20261101T060000
END:STANDARD
END:VTIMEZONE
BEGIN:VEVENT
DTSTART;VALUE=DATE:20251120
DTEND;VALUE=DATE:20251121
DTSTAMP:20260420T002557
CREATED:20250804T142401Z
LAST-MODIFIED:20250804T142401Z
UID:15646-1763596800-1763683199@paulhubert.cssphares.gouv.qc.ca
SUMMARY:Premier bulletin
DESCRIPTION:
URL:https://paulhubert.cssphares.gouv.qc.ca/evenement/premier-bulletin/
END:VEVENT
BEGIN:VEVENT
DTSTART;TZID=America/New_York:20251120T183000
DTEND;TZID=America/New_York:20251120T210000
DTSTAMP:20260420T002557
CREATED:20250804T142556Z
LAST-MODIFIED:20250804T142556Z
UID:15648-1763663400-1763672400@paulhubert.cssphares.gouv.qc.ca
SUMMARY:Première rencontre de parents
DESCRIPTION:
URL:https://paulhubert.cssphares.gouv.qc.ca/evenement/premiere-rencontre-de-parents/2025-11-20/
END:VEVENT
BEGIN:VEVENT
DTSTART;VALUE=DATE:20251121
DTEND;VALUE=DATE:20251122
DTSTAMP:20260420T002557
CREATED:20250804T141807Z
LAST-MODIFIED:20250804T141807Z
UID:15630-1763683200-1763769599@paulhubert.cssphares.gouv.qc.ca
SUMMARY:Journée pédagogique
DESCRIPTION:
URL:https://paulhubert.cssphares.gouv.qc.ca/evenement/journee-pedagogique-7/
END:VEVENT
BEGIN:VEVENT
DTSTART;TZID=America/New_York:20251121T130000
DTEND;TZID=America/New_York:20251121T160000
DTSTAMP:20260420T002557
CREATED:20250804T142556Z
LAST-MODIFIED:20250804T142556Z
UID:15649-1763730000-1763740800@paulhubert.cssphares.gouv.qc.ca
SUMMARY:Première rencontre de parents
DESCRIPTION:
URL:https://paulhubert.cssphares.gouv.qc.ca/evenement/premiere-rencontre-de-parents/2025-11-21/
END:VEVENT
END:VCALENDAR